BEGIN:VCALENDAR
VERSION:2.0
PRODID:-//Prime Motion Fitness - ECPv5.3.0//NONSGML v1.0//EN
CALSCALE:GREGORIAN
METHOD:PUBLISH
X-WR-CALNAME:Prime Motion Fitness
X-ORIGINAL-URL:https://primemotion.co.uk
X-WR-CALDESC:Events for Prime Motion Fitness
BEGIN:VTIMEZONE
TZID:Europe/London
BEGIN:DAYLIGHT
TZOFFSETFROM:+0000
TZOFFSETTO:+0100
TZNAME:BST
DTSTART:20210328T010000
END:DAYLIGHT
BEGIN:STANDARD
TZOFFSETFROM:+0100
TZOFFSETTO:+0000
TZNAME:GMT
DTSTART:20211031T010000
END:STANDARD
END:VTIMEZONE
BEGIN:VEVENT
DTSTART;TZID=Europe/London:20210628T172500
DTEND;TZID=Europe/London:20210628T180000
DTSTAMP:20260421T141329
CREATED:20210524T084050Z
LAST-MODIFIED:20210524T090443Z
UID:18293-1624901100-1624903200@primemotion.co.uk
SUMMARY:Pump
DESCRIPTION:Feel that burn! This class focuses on defining and shaping the muscles of the upper body. The perfect class to compliment Legs\, Bums & Tums. If you’re looking for a workout to get your muscles burning and your heart pumping then this class is for you! https://us02web.zoom.us/j/85020876750?pwd=MTl5ZzU4SlBYVVBVWnJMQ1dnWE5wUT09, ID: 85020876750, Password: fn2*YS_53H
URL:https://primemotion.co.uk/class/pump-2021-06-28/
LOCATION:At Your Place
ATTACH;FMTTYPE=image/jpeg:https://primemotion.co.uk/wp-content/uploads/2021/05/pump-scaled.jpg
END:VEVENT
END:VCALENDAR