BEGIN:VCALENDAR
VERSION:2.0
PRODID:-//Prime Motion Fitness - ECPv5.3.0//NONSGML v1.0//EN
CALSCALE:GREGORIAN
METHOD:PUBLISH
X-WR-CALNAME:Prime Motion Fitness
X-ORIGINAL-URL:https://primemotion.co.uk
X-WR-CALDESC:Events for Prime Motion Fitness
BEGIN:VTIMEZONE
TZID:Europe/London
BEGIN:DAYLIGHT
TZOFFSETFROM:+0000
TZOFFSETTO:+0100
TZNAME:BST
DTSTART:20210328T010000
END:DAYLIGHT
BEGIN:STANDARD
TZOFFSETFROM:+0100
TZOFFSETTO:+0000
TZNAME:GMT
DTSTART:20211031T010000
END:STANDARD
END:VTIMEZONE
BEGIN:VEVENT
DTSTART;TZID=Europe/London:20210212T072500
DTEND;TZID=Europe/London:20210212T080000
DTSTAMP:20260421T085600
CREATED:20210126T110924Z
LAST-MODIFIED:20210126T125058Z
UID:11296-1613114700-1613116800@primemotion.co.uk
SUMMARY:Primal HIIT
DESCRIPTION:The most unique HIIT session you will come across! Boost your mood with innovative and exciting movements that grant you more mobility\, more flexibility and more functional strength! Movements are fun\, rhythmic\, addictive and rewarding. https://us02web.zoom.us/j/88961561246?pwd=QnZtc2hEL3c0a3Y4TWFaNVJyN3lXUT09, ID: 88961561246, Password: iAb7VxZqCg
URL:https://primemotion.co.uk/class/primal-hiit-5/
LOCATION:At Your Place
ATTACH;FMTTYPE=image/jpeg:https://primemotion.co.uk/wp-content/uploads/2020/07/Primal-HIIT.jpg
END:VEVENT
END:VCALENDAR