BEGIN:VCALENDAR
VERSION:2.0
PRODID:-//Prime Motion Fitness - ECPv5.3.0//NONSGML v1.0//EN
CALSCALE:GREGORIAN
METHOD:PUBLISH
X-WR-CALNAME:Prime Motion Fitness
X-ORIGINAL-URL:https://primemotion.co.uk
X-WR-CALDESC:Events for Prime Motion Fitness
BEGIN:VTIMEZONE
TZID:Europe/London
BEGIN:DAYLIGHT
TZOFFSETFROM:+0000
TZOFFSETTO:+0100
TZNAME:BST
DTSTART:20200329T010000
END:DAYLIGHT
BEGIN:STANDARD
TZOFFSETFROM:+0100
TZOFFSETTO:+0000
TZNAME:GMT
DTSTART:20201025T010000
END:STANDARD
END:VTIMEZONE
BEGIN:VEVENT
DTSTART;TZID=Europe/London:20201106T072500
DTEND;TZID=Europe/London:20201106T080000
DTSTAMP:20260420T113437
CREATED:20200910T055337Z
LAST-MODIFIED:20201028T113307Z
UID:2937-1604647500-1604649600@primemotion.co.uk
SUMMARY:Primal HIIT
DESCRIPTION:The most unique HIIT session you will come across! Boost your mood with innovative and exciting movements that grant you more mobility\, more flexibility and more functional strength! Movements are fun\, rhythmic\, addictive and rewarding. https://us02web.zoom.us/j/83547650021?pwd=dllJMDBiNVhoNncrV3k0cEhHVExzdz09, ID: 83547650021, Password: pNo-qs9vKS
URL:https://primemotion.co.uk/class/primal-hiit-2020-11-06/
LOCATION:At Your Place
ATTACH;FMTTYPE=image/jpeg:https://primemotion.co.uk/wp-content/uploads/2020/07/Primal-HIIT.jpg
END:VEVENT
END:VCALENDAR