BEGIN:VCALENDAR
VERSION:2.0
PRODID:-//Prime Motion Fitness - ECPv5.3.0//NONSGML v1.0//EN
CALSCALE:GREGORIAN
METHOD:PUBLISH
X-WR-CALNAME:Prime Motion Fitness
X-ORIGINAL-URL:https://primemotion.co.uk
X-WR-CALDESC:Events for Prime Motion Fitness
BEGIN:VTIMEZONE
TZID:Europe/London
BEGIN:DAYLIGHT
TZOFFSETFROM:+0000
TZOFFSETTO:+0100
TZNAME:BST
DTSTART:20200329T010000
END:DAYLIGHT
BEGIN:STANDARD
TZOFFSETFROM:+0100
TZOFFSETTO:+0000
TZNAME:GMT
DTSTART:20201025T010000
END:STANDARD
END:VTIMEZONE
BEGIN:VEVENT
DTSTART;TZID=Europe/London:20201211T072500
DTEND;TZID=Europe/London:20201211T080000
DTSTAMP:20260420T135618
CREATED:20201117T143929Z
LAST-MODIFIED:20201117T144557Z
UID:7153-1607671500-1607673600@primemotion.co.uk
SUMMARY:Primal HIIT
DESCRIPTION:The most unique HIIT session you will come across! Boost your mood with innovative and exciting movements that grant you more mobility\, more flexibility and more functional strength! Movements are fun\, rhythmic\, addictive and rewarding. https://us02web.zoom.us/j/89847791665?pwd=TUEyY0FqQ1loZzFoOURXQ1kvVGVLZz09, ID: 89847791665, Password: xnfNvEG659
URL:https://primemotion.co.uk/class/primal-hiit-2-2020-12-11/
LOCATION:At Your Place
ATTACH;FMTTYPE=image/jpeg:https://primemotion.co.uk/wp-content/uploads/2020/07/Primal-HIIT.jpg
END:VEVENT
END:VCALENDAR