BEGIN:VCALENDAR
VERSION:2.0
PRODID:-//Prime Motion Fitness - ECPv5.3.0//NONSGML v1.0//EN
CALSCALE:GREGORIAN
METHOD:PUBLISH
X-WR-CALNAME:Prime Motion Fitness
X-ORIGINAL-URL:https://primemotion.co.uk
X-WR-CALDESC:Events for Prime Motion Fitness
BEGIN:VTIMEZONE
TZID:Europe/London
BEGIN:DAYLIGHT
TZOFFSETFROM:+0000
TZOFFSETTO:+0100
TZNAME:BST
DTSTART:20240331T010000
END:DAYLIGHT
BEGIN:STANDARD
TZOFFSETFROM:+0100
TZOFFSETTO:+0000
TZNAME:GMT
DTSTART:20241027T010000
END:STANDARD
END:VTIMEZONE
BEGIN:VEVENT
DTSTART;TZID=Europe/London:20240621T090000
DTEND;TZID=Europe/London:20240621T094500
DTSTAMP:20260422T100147
CREATED:20240531T145918Z
LAST-MODIFIED:20240531T150854Z
UID:36672-1718960400-1718963100@primemotion.co.uk
SUMMARY:Legs\, Bums & Tums
DESCRIPTION:Tone and sculpt that lower half. Not only will this class improve the shape and feel of the muscles in these specific areas\, but it will also build great foundations for lower body strength\, making normal day movement seem like a walk in the park. https://us02web.zoom.us/j/83271924765?pwd=8Tsaq1n99gdLhmP9HuMFayoHjMAcFe.1, ID: 83271924765, Password: ivJg6dGLV2
URL:https://primemotion.co.uk/class/legs-bums-tums-60-2024-06-21/
LOCATION:At Your Place
ATTACH;FMTTYPE=image/jpeg:https://primemotion.co.uk/wp-content/uploads/2020/07/pri-legs.jpg
END:VEVENT
END:VCALENDAR